BEGIN:VCALENDAR
VERSION:2.0
PRODID:-//ChamberMaster//Event Calendar 2.0//EN
METHOD:PUBLISH
X-PUBLISHED-TTL:P1H
REFRESH-INTERVAL:P1H
CALSCALE:GREGORIAN
BEGIN:VTIMEZONE
TZID:America/Denver
BEGIN:DAYLIGHT
RRULE:FREQ=YEARLY;BYMONTH=3;BYDAY=2SU
DTSTART:20070101T000000
TZOFFSETFROM:-0700
TZOFFSETTO:-0600
TZNAME:Mountain Daylight Time
END:DAYLIGHT
BEGIN:STANDARD
RRULE:FREQ=YEARLY;BYMONTH=11;BYDAY=1SU
DTSTART:20070101T000000
TZOFFSETFROM:-0600
TZOFFSETTO:-0700
TZNAME:Mountain Standard Time
END:STANDARD
END:VTIMEZONE
BEGIN:VEVENT
DTSTART;TZID=America/Denver:20260828T120000
DTEND;TZID=America/Denver:20260830T210000
X-MICROSOFT-CDO-ALLDAYEVENT:FALSE
SUMMARY:Fall River Flight Fest
DESCRIPTION:Formerly known as the Fall River Hot Air Balloon Festival\, the Fall River Flight Fest has a new name and lineup of activities that will expand the aerial attractions\, to not only showcase hot air balloons\, but also skydivers\, airplanes and lots more.\n\nFull Schedule with events\, locations and times to come--Keep checking back often!
X-ALT-DESC;FMTTYPE=text/html:<!DOCTYPE html><html><head><title></title></head><body aria-disabled="false"><p><strong fr-original-style="" style="font-weight: 700\;">Formerly known as the Fall River Hot Air Balloon Festival</strong>\, the Fall River Flight Fest has a new name and lineup of activities that will expand the aerial attractions\, to not only showcase hot air balloons\, but also skydivers\, airplanes and lots more.<br><br>Full Schedule with events\, locations and times to come--Keep checking back often!</p></body></html>
LOCATION:Hot Springs SD 57747
UID:e.4309.1439581
SEQUENCE:3
DTSTAMP:20260422T124956Z
URL:https://business.hotsprings-sd.com/eventcalendar/Details/fall-river-flight-fest-1704221?sourceTypeId=Hub
END:VEVENT
END:VCALENDAR
