BEGIN:VCALENDAR
VERSION:2.0
PRODID:-//ChamberMaster//Event Calendar 2.0//EN
METHOD:PUBLISH
X-PUBLISHED-TTL:P1H
REFRESH-INTERVAL:P1H
CALSCALE:GREGORIAN
BEGIN:VTIMEZONE
TZID:America/Denver
BEGIN:DAYLIGHT
RRULE:FREQ=YEARLY;BYMONTH=3;BYDAY=2SU
DTSTART:20070101T000000
TZOFFSETFROM:-0700
TZOFFSETTO:-0600
TZNAME:Mountain Daylight Time
END:DAYLIGHT
BEGIN:STANDARD
RRULE:FREQ=YEARLY;BYMONTH=11;BYDAY=1SU
DTSTART:20070101T000000
TZOFFSETFROM:-0600
TZOFFSETTO:-0700
TZNAME:Mountain Standard Time
END:STANDARD
END:VTIMEZONE
BEGIN:VEVENT
DTSTART;TZID=America/Denver:20260703T190000
DTEND;TZID=America/Denver:20260704T220000
X-MICROSOFT-CDO-ALLDAYEVENT:FALSE
SUMMARY:Fall River 4th of July Celebration
DESCRIPTION:Celebrate our Nation's 250th Anniversary this Fourth of July in Hot Springs\, SD!Lots of fun activities to do with the whole family!FRIDAY--FREE Street Dance at Centennial Park with LIVE MUSIC! Begins at 7pm and goes to around 11pm. Come enjoy the free music and dance the night away! Sponsored by the Hot Springs Rotary Club.SATURDAY -- July 4th Firecracker 5k/10k & Mile Race at Chautauqua Park\, registration starts at 6:00am! FOR MORE INFORMATION Email: hotspringsfirecracker@yahoo.com - Online Registration: www.active.comFourth of July Celebration Parade starts at 10:00am. Parade begins on River Street (behind Evans Plunge) and continues to Jennings Avenue\, and Chicago Street until it concludes on 6th Street (after Lynn's Dakotamart). For those interested in being in the parade\, please fill out and return an entry form before the deadline.Ready for Lunch? We got you covered! The Chamber will have their annual Community Picnic at the MUELLER CENTER beginning at 11:30am. Cool off and come get a cheap meal (Hot Dog & Chips) in air- conditioned comfort!\n\nFireQuacker Duck Race at 1pm\, starts at the Centennial Park Bridge down to the dip bridge. Get your Duck Tickets at the Main Street Arts and Crafts Festival at the Chamber Booth\, June 26-28 OR at the Chamber of Commerce office in the Mueller Center\, 801 S. 6th St. the following week (June 29-July 2nd). Many great PRIZES for winners!***Schedule may be subject to change(s)
X-ALT-DESC;FMTTYPE=text/html:<!DOCTYPE html><html><head><title></title></head><body aria-disabled="false"><p><span style="font-size: 24px\;"><strong fr-original-style="" style="font-weight: 700\;">Celebrate our Nation&#39\;s 250th Anniversary this Fourth of July in Hot Springs\, SD!</strong></span></p><p>Lots of fun activities to do with the whole family!</p><p><strong fr-original-style="" style="font-weight: 700\;">FRIDAY</strong>--FREE Street Dance at Centennial Park with LIVE MUSIC! Begins at 7pm and goes to around 11pm. Come enjoy the free music and dance the night away! Sponsored by the Hot Springs Rotary Club.</p><p><strong fr-original-style="" style="font-weight: 700\;">SATURDAY</strong> -- July 4th Firecracker 5k/10k &amp\; Mile Race at Chautauqua Park\, registration starts at 6:00am! FOR MORE INFORMATION Email: hotspringsfirecracker@yahoo.com - Online Registration: www.active.com</p><p>Fourth of July Celebration Parade starts at 10:00am. Parade begins on River Street (behind Evans Plunge) and continues to Jennings Avenue\, and Chicago Street until it concludes on 6th Street (after Lynn&#39\;s Dakotamart). For those interested in being in the parade\, please fill out and return an entry form before the deadline.</p><p>Ready for Lunch? We got you covered! The Chamber will have their annual Community Picnic at the MUELLER CENTER beginning at 11:30am. Cool off and come get a cheap meal (Hot Dog &amp\; Chips) in air- conditioned comfort!<br><br>FireQuacker Duck Race at 1pm\, starts at the Centennial Park Bridge down to the dip bridge. Get your Duck Tickets at the Main Street Arts and Crafts Festival at the Chamber Booth\, June 26-28 OR at the Chamber of Commerce office in the Mueller Center\, 801 S. 6th St. the following week (June 29-July 2nd). Many great PRIZES for winners!</p><p><em>***Schedule may be subject to change(s)</em></p></body></html>
LOCATION:Hot Springs SD 57747
UID:e.4309.1438612
SEQUENCE:3
DTSTAMP:20260422T124847Z
URL:https://business.hotsprings-sd.com/eventcalendar/Details/fall-river-4th-of-july-celebration-1702775?sourceTypeId=Hub
END:VEVENT
END:VCALENDAR
