BEGIN:VCALENDAR
VERSION:2.0
PRODID:-//ChamberMaster//Event Calendar 2.0//EN
METHOD:PUBLISH
X-PUBLISHED-TTL:P1H
REFRESH-INTERVAL:P1H
CALSCALE:GREGORIAN
BEGIN:VTIMEZONE
TZID:America/Denver
BEGIN:DAYLIGHT
RRULE:FREQ=YEARLY;BYMONTH=3;BYDAY=2SU
DTSTART:20070101T000000
TZOFFSETFROM:-0700
TZOFFSETTO:-0600
TZNAME:Mountain Daylight Time
END:DAYLIGHT
BEGIN:STANDARD
RRULE:FREQ=YEARLY;BYMONTH=11;BYDAY=1SU
DTSTART:20070101T000000
TZOFFSETFROM:-0600
TZOFFSETTO:-0700
TZNAME:Mountain Standard Time
END:STANDARD
END:VTIMEZONE
BEGIN:VEVENT
DTSTART;TZID=America/Denver:20260522T163000
DTEND;TZID=America/Denver:20260522T190000
X-MICROSOFT-CDO-ALLDAYEVENT:FALSE
SUMMARY:Chamber of Commerce's "Wine Walk & Play"
DESCRIPTION:This fun event takes place on Friday of the Salute to Valor Festival to officially start the summer. Participating downtown businesses host either a Wine-Stop\, Snack-Stop or Game-Stop. Participants roam the downtown from business to business\, and partake in wine-tasting\, snack eating and enjoying fun games.\nDowntown Hot Springs • 4:30-7:00PM
X-ALT-DESC;FMTTYPE=text/html:This fun event takes place on Friday of the Salute to Valor Festival to officially start the summer. Participating downtown businesses host either a Wine-Stop\, Snack-Stop or Game-Stop. Participants roam the downtown from business to business\, and partake in wine-tasting\, snack eating and enjoying fun games.\nDowntown Hot Springs • 4:30-7:00PM
LOCATION:Hot Springs SD 57747
UID:e.4309.1438583
SEQUENCE:3
DTSTAMP:20260422T125505Z
URL:https://business.hotsprings-sd.com/eventcalendar/Details/chamber-of-commerce-s-wine-walk-play-1702747?sourceTypeId=Hub
END:VEVENT
END:VCALENDAR
