BEGIN:VCALENDAR
VERSION:2.0
PRODID:-//ChamberMaster//Event Calendar 2.0//EN
METHOD:PUBLISH
X-PUBLISHED-TTL:P1H
REFRESH-INTERVAL:P1H
CALSCALE:GREGORIAN
BEGIN:VTIMEZONE
TZID:America/Denver
BEGIN:DAYLIGHT
RRULE:FREQ=YEARLY;BYMONTH=3;BYDAY=2SU
DTSTART:20070101T000000
TZOFFSETFROM:-0700
TZOFFSETTO:-0600
TZNAME:Mountain Daylight Time
END:DAYLIGHT
BEGIN:STANDARD
RRULE:FREQ=YEARLY;BYMONTH=11;BYDAY=1SU
DTSTART:20070101T000000
TZOFFSETFROM:-0600
TZOFFSETTO:-0700
TZNAME:Mountain Standard Time
END:STANDARD
END:VTIMEZONE
BEGIN:VEVENT
DTSTART;TZID=America/Denver:20260522T163000
DTEND;TZID=America/Denver:20260525T170000
X-MICROSOFT-CDO-ALLDAYEVENT:FALSE
SUMMARY:Chamber of Commerce's "Salute to Valor"
DESCRIPTION:The 2nd Annual Memorial Day Festival honoring our military\, veterans\, and fallen heroes with family fun\, a car show\, community picnic\, downtown parade\, and more! We will also have a Wall of Honor again this year to hang photos and names to commemorate loved ones\, and our annual Wine Walk to kick off the event & weekend on Friday evening.If you would like to participate in the Patriotic Parade\, we would love to have you! Please fill out the application form (link below) and return to the Chamber. It's free to participate\, so spread the word--this is a great cause--we want to have as many join as possible to show our veterans they matter and we care as a community!
X-ALT-DESC;FMTTYPE=text/html:<!DOCTYPE html><html><head><title></title></head><body aria-disabled="false"><p>The 2nd Annual Memorial Day Festival honoring our military\, veterans\, and fallen heroes with family fun\, a car show\, community picnic\, downtown parade\, and more! We will also have a Wall of Honor again this year to hang photos and names to commemorate loved ones\, and our annual Wine Walk to kick off the event &amp\; weekend on Friday evening.</p><p>If you would like to participate in the Patriotic Parade\, we would love to have you! Please fill out the application form (link below) and return to the Chamber. It&#39\;s free to participate\, so spread the word--this is a great cause--we want to have as many join as possible to show our veterans they matter and we care as a community!<br><br></p></body></html>
LOCATION:Hot Springs 57747
UID:e.4309.1438365
SEQUENCE:3
DTSTAMP:20260422T125322Z
URL:https://business.hotsprings-sd.com/eventcalendar/Details/chamber-of-commerce-s-salute-to-valor-1702449?sourceTypeId=Hub
END:VEVENT
END:VCALENDAR
