BEGIN:VCALENDAR
VERSION:2.0
PRODID:-//ChamberMaster//Event Calendar 2.0//EN
METHOD:PUBLISH
X-PUBLISHED-TTL:P1H
REFRESH-INTERVAL:P1H
CALSCALE:GREGORIAN
BEGIN:VTIMEZONE
TZID:America/Denver
BEGIN:DAYLIGHT
RRULE:FREQ=YEARLY;BYMONTH=3;BYDAY=2SU
DTSTART:20070101T000000
TZOFFSETFROM:-0700
TZOFFSETTO:-0600
TZNAME:Mountain Daylight Time
END:DAYLIGHT
BEGIN:STANDARD
RRULE:FREQ=YEARLY;BYMONTH=11;BYDAY=1SU
DTSTART:20070101T000000
TZOFFSETFROM:-0600
TZOFFSETTO:-0700
TZNAME:Mountain Standard Time
END:STANDARD
END:VTIMEZONE
BEGIN:VEVENT
DTSTART;TZID=America/Denver:20260530T190000
DTEND;TZID=America/Denver:20260808T210000
X-MICROSOFT-CDO-ALLDAYEVENT:FALSE
SUMMARY:Chamber of Commerce's "Rockin' Riverside" Summer Concert Series
DESCRIPTION:A series of FREE concerts starting May 30 and going through August 8th\, with 6 concerts total. These concerts are a great way for families and friends throughout the community to connect as they enjoy a fun-filled evening of music.\n\nSchedule of performers below\nMay 30th: Lonely Rangers\nJune 13th: Wild Blue\nJune 20th: TBA\nJuly 11th: Ivory\nJuly 25th: TBA\nAugust 8th: Andy Babb & the Big Beautiful BandCentennial Park\, Hot Springs\, SD 57747   7:00-9:00PM
X-ALT-DESC;FMTTYPE=text/html:<!DOCTYPE html><html><head><title></title></head><body aria-disabled="false"><p>A series of FREE concerts starting May 30 and going through August 8th\, with 6 concerts total. These concerts are a great way for families and friends throughout the community to connect as they enjoy a fun-filled evening of music.<br><br><strong fr-original-style="" style="font-weight: 700\;">Schedule of performers below</strong><br>May 30th: Lonely Rangers<br>June 13th: Wild Blue<br>June 20th: TBA<br>July 11th: Ivory<br>July 25th: TBA<br>August 8th: Andy Babb &amp\; the Big Beautiful Band</p><p>Centennial Park\, Hot Springs\, SD 57747 &bull\; 7:00-9:00PM</p></body></html>
LOCATION:N River Street Hot Springs SD 57747
UID:e.4309.1438600
SEQUENCE:3
DTSTAMP:20260422T124744Z
URL:https://business.hotsprings-sd.com/eventcalendar/Details/chamber-of-commerce-s-rockin-riverside-summer-concert-series-1702763?sourceTypeId=Hub
END:VEVENT
END:VCALENDAR
